Workbook

Sheet Bedrag
B2: Distributienetbeheerder | C2: Fluvius Limburg
B3: Afname in kWh | C3: 1000 | D3: kWh
B4: Jaarpiek in kW | C4: 8 | D4: kW | E4: *Dit is de gemiddelde jaarpiek zoals berekend door Fluvius. Dit getal kan nooit minder zijn dan 2,5kW
B5: BTW | C5: 0.06
B7: kWh tarief Oud | C7: =(HLOOKUP(C2,DNBT2022!F6:O30,4,TRUE)+HLOOKUP(C2,DNBT2022!F6:O30,5,TRUE))/2/10*(1+C5) -> 6.8420509 | D7: c€/kWh | E7: *Hiervoor wordt 50% dagtarief + 50% nachttarief gehanteerd
B8: kWh tarief Nieuw | C8: =HLOOKUP(C2,DNBT2023!$F$6:$O$36,5,TRUE)/10*(1+C5) -> 3.9447476 | D8: c€/kWh
B9: Voordeel per kWh | C9: =C7-C8 -> 2.8973033 | D9: c€/kWh
B10: kWh voordeel op totale verbruik | C10: =C3*C9/100 -> 28.973033 | D10: €/jaar
B11: Capaciteitstarief init | C11: =HLOOKUP(C2,DNBT2023!$F$6:$O$36,4,TRUE)*C4*(1+C5) -> 301.19264 | D11: €/kW/Jaar
B12: Capaciteitstarief | C12: =IF(C15="Ja","niet van toepassing door het maximumtarief",HLOOKUP(C2,DNBT2023!$F$6:$O$36,4,TRUE)*C4*(1+C5)) -> niet van toepassing door het maximumtarief
B13: Wijziging init | C13: =IF(D15<>"",D15-D16,C11-C10) -> 123.60589
B14: Wijziging t.o.v. oude systeem | C14: =IF(C13>0,C13,C13*-1) -> 123.60589 | D14: =IF(C13>0,"€ Duurder","€ Goedkoper") -> € Duurder
B15: Afvlakking van toepassing via maximumtarief? | C15: =IF(((C3*C8/100)+C11)/(C3/1000)>HLOOKUP(C2,DNBT2023!F6:O36,9,TRUE),"ja","Nee") -> ja | D15: =IF(C15="ja",C3*HLOOKUP(C2,DNBT2023!$F$6:$O$36,9,TRUE)/1000,"") -> 192.0264 | E15: =IF(C15="ja","Het maximumtarief voor Distributiekosten is van toepassing","") -> Het maximumtarief voor Distributiekosten is van toepassing
B16: Oude distributiekost | D16: =C3*C7/100 -> 68.420509
C21: Distributiekosten/Jaar Winst of verlies
C22: kWh t.o.v. Maandpiek | D22: 500 | E22: 1000 | F22: 2000 | G22: 3000 | H22: 4000 | I22: 5000 | J22: 7500 | K22: 10000 | L22: 15000 | M22: 20000 | N22: kWh/jaar
C23: 1 | D23: =D62-D43 -> 61.802945 | E23: =E62-E43 -> 59.821967 | F23: =F62-F43 -> 30.848934 | G23: =G62-G43 -> 1.875901 | H23: =H62-H43 -> -27.097132 | I23: =I62-I43 -> -56.070165 | J23: =J62-J43 -> -128.50275 | K23: =K62-K43 -> -200.93533 | ... M23: =M62-M43 -> -490.66566
C24: 2 | D24: =D63-D44 -> 61.802945 | E24: =E63-E44 -> 59.821967 | F24: =F63-F44 -> 30.848934 | G24: =G63-G44 -> 1.875901 | H24: =H63-H44 -> -27.097132 | I24: =I63-I44 -> -56.070165 | J24: =J63-J44 -> -128.50275 | K24: =K63-K44 -> -200.93533 | ... M24: =M63-M44 -> -490.66566
C25: 3 | D25: =D64-D45 -> 61.802945 | E25: =E64-E45 -> 77.580967 | F25: =F64-F45 -> 48.607934 | G25: =G64-G45 -> 19.634901 | H25: =H64-H45 -> -9.338132 | I25: =I64-I45 -> -38.311165 | J25: =J64-J45 -> -110.74375 | K25: =K64-K45 -> -183.17633 | ... M25: =M64-M45 -> -472.90666
C26: 4 | D26: =D65-D46 -> 61.802945 | E26: =E65-E46 -> 113.09897 | F26: =F65-F46 -> 84.125934 | G26: =G65-G46 -> 55.152901 | H26: =H65-H46 -> 26.179868 | I26: =I65-I46 -> -2.793165 | J26: =J65-J46 -> -75.225748 | K26: =K65-K46 -> -147.65833 | ... M26: =M65-M46 -> -437.38866
C27: 5 | D27: =D66-D47 -> 61.802945 | E27: =E66-E47 -> 123.60589 | F27: =F66-F47 -> 119.64393 | G27: =G66-G47 -> 90.670901 | H27: =H66-H47 -> 61.697868 | I27: =I66-I47 -> 32.724835 | J27: =J66-J47 -> -39.707748 | K27: =K66-K47 -> -112.14033 | ... M27: =M66-M47 -> -401.87066
C28: 6 | D28: =D67-D48 -> 61.802945 | E28: =E67-E48 -> 123.60589 | F28: =F67-F48 -> 155.16193 | G28: =G67-G48 -> 126.1889 | H28: =H67-H48 -> 97.215868 | I28: =I67-I48 -> 68.242835 | J28: =J67-J48 -> -4.1897475 | K28: =K67-K48 -> -76.62233 | ... M28: =M67-M48 -> -366.35266
C29: 7 | D29: =D68-D49 -> 61.802945 | E29: =E68-E49 -> 123.60589 | F29: =F68-F49 -> 190.67993 | G29: =G68-G49 -> 161.7069 | H29: =H68-H49 -> 132.73387 | I29: =I68-I49 -> 103.76083 | J29: =J68-J49 -> 31.328252 | K29: =K68-K49 -> -41.10433 | ... M29: =M68-M49 -> -330.83466
C30: 8 | D30: =D69-D50 -> 61.802945 | E30: =E69-E50 -> 123.60589 | F30: =F69-F50 -> 226.19793 | G30: =G69-G50 -> 197.2249 | H30: =H69-H50 -> 168.25187 | I30: =I69-I50 -> 139.27884 | J30: =J69-J50 -> 66.846252 | K30: =K69-K50 -> -5.58633 | ... M30: =M69-M50 -> -295.31666
C31: 9 | D31: =D70-D51 -> 61.802945 | E31: =E70-E51 -> 123.60589 | F31: =F70-F51 -> 247.21178 | G31: =G70-G51 -> 232.7429 | H31: =H70-H51 -> 203.76987 | I31: =I70-I51 -> 174.79684 | J31: =J70-J51 -> 102.36425 | K31: =K70-K51 -> 29.93167 | ... M31: =M70-M51 -> -259.79866
C32: 10 | D32: =D71-D52 -> 61.802945 | E32: =E71-E52 -> 123.60589 | F32: =F71-F52 -> 247.21178 | G32: =G71-G52 -> 268.2609 | H32: =H71-H52 -> 239.28787 | I32: =I71-I52 -> 210.31483 | J32: =J71-J52 -> 137.88225 | K32: =K71-K52 -> 65.44967 | ... M32: =M71-M52 -> -224.28066
C33: 12 | D33: =D72-D53 -> 61.802945 | E33: =E72-E53 -> 123.60589 | F33: =F72-F53 -> 247.21178 | G33: =G72-G53 -> 339.2969 | H33: =H72-H53 -> 310.32387 | I33: =I72-I53 -> 281.35084 | J33: =J72-J53 -> 208.91825 | K33: =K72-K53 -> 136.48567 | ... M33: =M72-M53 -> -153.24466
C34: 15 | D34: =D73-D54 -> 61.802945 | E34: =E73-E54 -> 123.60589 | F34: =F73-F54 -> 247.21178 | G34: =G73-G54 -> 370.81767 | H34: =H73-H54 -> 416.87787 | I34: =I73-I54 -> 387.90483 | J34: =J73-J54 -> 315.47225 | K34: =K73-K54 -> 243.03967 | ... M34: =M73-M54 -> -46.69066
... C37: 25 | D37: =D76-D57 -> 61.802945 | E37: =E76-E57 -> 123.60589 | F37: =F76-F57 -> 247.21178 | G37: =G76-G57 -> 370.81767 | H37: =H76-H57 -> 494.42356 | I37: =I76-I57 -> 618.02945 | J37: =J76-J57 -> 670.65225 | K37: =K76-K57 -> 598.21967 | ... M37: =M76-M57 -> 308.48934
C38: kW gemiddelde jaarpiek
C41: Distributiekosten oud
D42: 500 | E42: 1000 | F42: 2000 | G42: 3000 | H42: 4000 | I42: 5000 | J42: 7500 | K42: 10000 | L42: 15000 | M42: 20000
C43: 1 | D43: =D$42*$C$7/100 -> 34.210254 | E43: =E$42*$C$7/100 -> 68.420509 | F43: =F$42*$C$7/100 -> 136.84102 | G43: =G$42*$C$7/100 -> 205.26153 | H43: =H$42*$C$7/100 -> 273.68204 | I43: =I$42*$C$7/100 -> 342.10255 | J43: =J$42*$C$7/100 -> 513.15382 | K43: =K$42*$C$7/100 -> 684.20509 | ... M43: =M$42*$C$7/100 -> 1368.4102
C44: 2 | D44: =D$42*$C$7/100 -> 34.210254 | E44: =E$42*$C$7/100 -> 68.420509 | F44: =F$42*$C$7/100 -> 136.84102 | G44: =G$42*$C$7/100 -> 205.26153 | H44: =H$42*$C$7/100 -> 273.68204 | I44: =I$42*$C$7/100 -> 342.10255 | J44: =J$42*$C$7/100 -> 513.15382 | K44: =K$42*$C$7/100 -> 684.20509 | ... M44: =M$42*$C$7/100 -> 1368.4102
C45: 3 | D45: =D$42*$C$7/100 -> 34.210254 | E45: =E$42*$C$7/100 -> 68.420509 | F45: =F$42*$C$7/100 -> 136.84102 | G45: =G$42*$C$7/100 -> 205.26153 | H45: =H$42*$C$7/100 -> 273.68204 | I45: =I$42*$C$7/100 -> 342.10255 | J45: =J$42*$C$7/100 -> 513.15382 | K45: =K$42*$C$7/100 -> 684.20509 | ... M45: =M$42*$C$7/100 -> 1368.4102
C46: 4 | D46: =D$42*$C$7/100 -> 34.210254 | E46: =E$42*$C$7/100 -> 68.420509 | F46: =F$42*$C$7/100 -> 136.84102 | G46: =G$42*$C$7/100 -> 205.26153 | H46: =H$42*$C$7/100 -> 273.68204 | I46: =I$42*$C$7/100 -> 342.10255 | J46: =J$42*$C$7/100 -> 513.15382 | K46: =K$42*$C$7/100 -> 684.20509 | ... M46: =M$42*$C$7/100 -> 1368.4102
C47: 5 | D47: =D$42*$C$7/100 -> 34.210254 | E47: =E$42*$C$7/100 -> 68.420509 | F47: =F$42*$C$7/100 -> 136.84102 | G47: =G$42*$C$7/100 -> 205.26153 | H47: =H$42*$C$7/100 -> 273.68204 | I47: =I$42*$C$7/100 -> 342.10255 | J47: =J$42*$C$7/100 -> 513.15382 | K47: =K$42*$C$7/100 -> 684.20509 | ... M47: =M$42*$C$7/100 -> 1368.4102
C48: 6 | D48: =D$42*$C$7/100 -> 34.210254 | E48: =E$42*$C$7/100 -> 68.420509 | F48: =F$42*$C$7/100 -> 136.84102 | G48: =G$42*$C$7/100 -> 205.26153 | H48: =H$42*$C$7/100 -> 273.68204 | I48: =I$42*$C$7/100 -> 342.10255 | J48: =J$42*$C$7/100 -> 513.15382 | K48: =K$42*$C$7/100 -> 684.20509 | ... M48: =M$42*$C$7/100 -> 1368.4102
C49: 7 | D49: =D$42*$C$7/100 -> 34.210254 | E49: =E$42*$C$7/100 -> 68.420509 | F49: =F$42*$C$7/100 -> 136.84102 | G49: =G$42*$C$7/100 -> 205.26153 | H49: =H$42*$C$7/100 -> 273.68204 | I49: =I$42*$C$7/100 -> 342.10255 | J49: =J$42*$C$7/100 -> 513.15382 | K49: =K$42*$C$7/100 -> 684.20509 | ... M49: =M$42*$C$7/100 -> 1368.4102
C50: 8 | D50: =D$42*$C$7/100 -> 34.210254 | E50: =E$42*$C$7/100 -> 68.420509 | F50: =F$42*$C$7/100 -> 136.84102 | G50: =G$42*$C$7/100 -> 205.26153 | H50: =H$42*$C$7/100 -> 273.68204 | I50: =I$42*$C$7/100 -> 342.10255 | J50: =J$42*$C$7/100 -> 513.15382 | K50: =K$42*$C$7/100 -> 684.20509 | ... M50: =M$42*$C$7/100 -> 1368.4102
...

Sheet DNBT2022
A1: ELEKTRICITEIT - Tarieflijst periodieke distributienettarieven geldig vanaf 01/01/2022 t.e.m. 31/12/2022 - Afname
A3: LS
A4: Afnemers aangesloten op het laagspanningsnetwerk (het netwerk met een nominale spanning lager dan 1 kV)
F6: Fluvius Antwerpen | G6: Fluvius Limburg | H6: Fluvius West | I6: Gaselwest | J6: Imewo | K6: Intergem | L6: Iveka | M6: Iverlek | N6: PBE | O6: Sibelgas
A8: Exclusief BTW | B8: Digitale of klassieke meter
B9: Totale MWh-tarief dag | E9: EUR/MWh | F9: 85.0439 | G9: 72.2218 | H9: 78.01 | I9: 125.729 | J9: 100.8013 | K9: 90.855 | L9: 114.685 | M9: 101.7921 | N9: 87.202 | O9: 109.4478
B10: Totale MWh-tarief nacht | E10: EUR/MWh | F10: 65.2817 | G10: 56.8735 | H10: 59.4891 | I10: 96.681 | J10: 76.7061 | K10: 69.4077 | L10: 90.7238 | M10: 77.5357 | N10: 65.5564 | O10: 84.722
B11: Totale MWh-tarief exclusief nacht | E11: EUR/MWh | F11: 51.9352 | G11: 45.5263 | H11: 48.4009 | I11: 73.9965 | J11: 61.321 | K11: 55.7978 | L11: 66.6724 | M11: 61.2071 | N11: 57.6956 | O11: 66.4798
B12: Tarief databeheer - meetregime: per kwartier | E12: EUR/jaar | F12: 12.51 | G12: 12.51 | H12: 12.51 | I12: 12.51 | J12: 12.51 | K12: 12.51 | L12: 12.51 | M12: 12.51 | N12: 12.51 | O12: 12.51
B13: Tarief databeheer - meetregime: maandelijks/jaarlijks | E13: EUR/jaar | F13: 11.53 | G13: 11.53 | H13: 11.53 | I13: 11.53 | J13: 11.53 | K13: 11.53 | L13: 11.53 | M13: 11.53 | N13: 11.53 | O13: 11.53
B14: Prosumententarief | E14: EUR/kW/jaar | F14: 54.21 | G14: 46.27 | H14: 49.66 | I14: 80.17 | J14: 64.15 | K14: 57.85 | L14: 73.53 | M14: 64.79 | N14: 55.36 | O14: 69.88
A16: Inclusief 21% btw | B16: Digitale of klassieke meter
B17: Totale MWh-tarief dag | E17: EUR/MWh | F17: =F9*1.21 -> 102.90312 | G17: =G9*1.21 -> 87.388378 | H17: =H9*1.21 -> 94.3921 | I17: =I9*1.21 -> 152.13209 | J17: =J9*1.21 -> 121.96957 | K17: =K9*1.21 -> 109.93455 | L17: =L9*1.21 -> 138.76885 | M17: =M9*1.21 -> 123.16844 | ... O17: =O9*1.21 -> 132.43184
B18: Totale MWh-tarief nacht | E18: EUR/MWh | F18: =F10*1.21 -> 78.990857 | G18: =G10*1.21 -> 68.816935 | H18: =H10*1.21 -> 71.981811 | I18: =I10*1.21 -> 116.98401 | J18: =J10*1.21 -> 92.814381 | K18: =K10*1.21 -> 83.983317 | L18: =L10*1.21 -> 109.7758 | M18: =M10*1.21 -> 93.818197 | ... O18: =O10*1.21 -> 102.51362
B19: Totale MWh-tarief exclusief nacht | E19: EUR/MWh | F19: =F11*1.21 -> 62.841592 | G19: =G11*1.21 -> 55.086823 | H19: =H11*1.21 -> 58.565089 | I19: =I11*1.21 -> 89.535765 | J19: =J11*1.21 -> 74.19841 | K19: =K11*1.21 -> 67.515338 | L19: =L11*1.21 -> 80.673604 | M19: =M11*1.21 -> 74.060591 | ... O19: =O11*1.21 -> 80.440558
B20: Tarief databeheer - meetregime: per kwartier | E20: EUR/jaar | F20: =F12*1.21 -> 15.1371 | G20: =G12*1.21 -> 15.1371 | H20: =H12*1.21 -> 15.1371 | I20: =I12*1.21 -> 15.1371 | J20: =J12*1.21 -> 15.1371 | K20: =K12*1.21 -> 15.1371 | L20: =L12*1.21 -> 15.1371 | M20: =M12*1.21 -> 15.1371 | ... O20: =O12*1.21 -> 15.1371
B21: Tarief databeheer - meetregime: maandelijks/jaarlijks | E21: EUR/jaar | F21: =F13*1.21 -> 13.9513 | G21: =G13*1.21 -> 13.9513 | H21: =H13*1.21 -> 13.9513 | I21: =I13*1.21 -> 13.9513 | J21: =J13*1.21 -> 13.9513 | K21: =K13*1.21 -> 13.9513 | L21: =L13*1.21 -> 13.9513 | M21: =M13*1.21 -> 13.9513 | ... O21: =O13*1.21 -> 13.9513
B22: Prosumententarief | E22: EUR/kW/jaar | F22: =F14*1.21 -> 65.5941 | G22: =G14*1.21 -> 55.9867 | H22: =H14*1.21 -> 60.0886 | I22: =I14*1.21 -> 97.0057 | J22: =J14*1.21 -> 77.6215 | K22: =K14*1.21 -> 69.9985 | L22: =L14*1.21 -> 88.9713 | M22: =M14*1.21 -> 78.3959 | ... O22: =O14*1.21 -> 84.5548
A24: Inclusief 6% btw | B24: Digitale of klassieke meter
B25: Totale MWh-tarief dag | E25: EUR/MWh | F25: =F9*1.06 -> 90.146534 | G25: =G9*1.06 -> 76.555108 | H25: =H9*1.06 -> 82.6906 | I25: =I9*1.06 -> 133.27274 | J25: =J9*1.06 -> 106.84938 | K25: =K9*1.06 -> 96.3063 | L25: =L9*1.06 -> 121.5661 | M25: =M9*1.06 -> 107.89963 | ... O25: =O9*1.06 -> 116.01467
B26: Totale MWh-tarief nacht | E26: EUR/MWh | F26: =F10*1.06 -> 69.198602 | G26: =G10*1.06 -> 60.28591 | H26: =H10*1.06 -> 63.058446 | I26: =I10*1.06 -> 102.48186 | J26: =J10*1.06 -> 81.308466 | K26: =K10*1.06 -> 73.572162 | L26: =L10*1.06 -> 96.167228 | M26: =M10*1.06 -> 82.187842 | ... O26: =O10*1.06 -> 89.80532
B27: Totale MWh-tarief exclusief nacht | E27: EUR/MWh | F27: =F11*1.06 -> 55.051312 | G27: =G11*1.06 -> 48.257878 | H27: =H11*1.06 -> 51.304954 | I27: =I11*1.06 -> 78.43629 | J27: =J11*1.06 -> 65.00026 | K27: =K11*1.06 -> 59.145668 | L27: =L11*1.06 -> 70.672744 | M27: =M11*1.06 -> 64.879526 | ... O27: =O11*1.06 -> 70.468588
B28: Tarief databeheer - meetregime: per kwartier | E28: EUR/jaar | F28: =F12*1.06 -> 13.2606 | G28: =G12*1.06 -> 13.2606 | H28: =H12*1.06 -> 13.2606 | I28: =I12*1.06 -> 13.2606 | J28: =J12*1.06 -> 13.2606 | K28: =K12*1.06 -> 13.2606 | L28: =L12*1.06 -> 13.2606 | M28: =M12*1.06 -> 13.2606 | ... O28: =O12*1.06 -> 13.2606
B29: Tarief databeheer - meetregime: maandelijks/jaarlijks | E29: EUR/jaar | F29: =F13*1.06 -> 12.2218 | G29: =G13*1.06 -> 12.2218 | H29: =H13*1.06 -> 12.2218 | I29: =I13*1.06 -> 12.2218 | J29: =J13*1.06 -> 12.2218 | K29: =K13*1.06 -> 12.2218 | L29: =L13*1.06 -> 12.2218 | M29: =M13*1.06 -> 12.2218 | ... O29: =O13*1.06 -> 12.2218
B30: Prosumententarief | E30: EUR/kW/jaar | F30: =F14*1.06 -> 57.4626 | G30: =G14*1.06 -> 49.0462 | H30: =H14*1.06 -> 52.6396 | I30: =I14*1.06 -> 84.9802 | J30: =J14*1.06 -> 67.999 | K30: =K14*1.06 -> 61.321 | L30: =L14*1.06 -> 77.9418 | M30: =M14*1.06 -> 68.6774 | ... O30: =O14*1.06 -> 74.0728
B32: *Opgelet: op uw energiefactuur wordt meestal het verbruik in kWh vermeld. Bovenstaande tarieven worden weergegeven in EUR/MWh. 1 MWh is gelijk aan 1.000 kWh.
B33: ** Vanaf 1 maart 2022 tot en met 31 december 2022 geldt een verlaagd btw-percentage van 6 procent voor huishoudelijke afnemers.
B34: *** Vanaf 1 juli 2022 wordt het prosumententarief per maand aangerekend (volgens de spreiding van de normaal uren zonneschijn in Ukkel).
B36: Maand | C36: januari | D36: februari | E36: maart | F36: april | G36: mei | H36: juni | I36: juli | J36: augustus | K36: september | L36: oktober | M36: november | N36: december
B37: Verdeling per maand | C37: 0.0368345 | D37: 0.0454585 | E37: 0.0784144 | F37: 0.1067994 | G37: 0.1236484 | H37: 0.1242595 | I37: 0.1267289 | J37: 0.1200005 | K37: 0.0963172 | L37: 0.0702331 | M37: 0.0410124 | N37: 0.0302932

Sheet DNBT2023
A1: ELEKTRICITEIT - Tarieflijst periodieke distributienettarieven 2023 - Afname
A3: LS
A4: Afnemers aangesloten op het laagspanningsnetwerk (het netwerk met een nominale spanning lager dan 1 kV)
F6: Fluvius Antwerpen | G6: Fluvius Limburg | H6: Fluvius West | I6: Gaselwest | J6: Imewo | K6: Intergem | L6: Iveka | M6: Iverlek | N6: PBE | O6: Sibelgas
A8: Exclusief BTW | B8: Digitale meter
B9: Capaciteitstarief - gemiddelde maandpiek | E9: EUR/kW/jaar | F9: 37.765 | G9: 35.518 | H9: 38.757 | I9: 46.0014 | J9: 41.0444 | K9: 36.8494 | L9: 42.4804 | M9: 41.2021 | N9: 50.0547 | O9: 45.3922
B10: Totaal kWh-tarief | E10: EUR/MWh | F10: 35.3012 | G10: 37.2146 | H10: 36.0218 | I10: 47.0004 | J10: 37.8329 | K10: 34.4889 | L10: 39.749 | M10: 36.6568 | N10: 34.3943 | O10: 43.1645
B11: Totaal kWh-tarief - exclusief nacht | E11: EUR/MWh | F11: 24.5464 | G11: 26.5581 | H11: 25.7044 | I11: 31.7693 | J11: 26.6581 | K11: 24.4866 | L11: 27.2727 | M11: 26.1896 | N11: 27.3529 | O11: 30.4568
B12: Tarief databeheer - meetregime: per kwartier | E12: EUR/jaar | F12: 13.71 | G12: 13.71 | H12: 13.71 | I12: 13.71 | J12: 13.71 | K12: 13.71 | L12: 13.71 | M12: 13.71 | N12: 13.71 | O12: 13.71
B13: Tarief databeheer - meetregime: maandelijks/jaarlijks | E13: EUR/jaar | F13: 12.63 | G13: 12.63 | H13: 12.63 | I13: 12.63 | J13: 12.63 | K13: 12.63 | L13: 12.63 | M13: 12.63 | N13: 12.63 | O13: 12.63
B14: Maximumtarief | E14: EUR/MWh | F14: 192.0264 | G14: 192.0264 | H14: 192.0264 | I14: 192.0264 | J14: 192.0264 | K14: 192.0264 | L14: 192.0264 | M14: 192.0264 | N14: 192.0264 | O14: 192.0264
A16: Inclusief 6% btw | B16: Digitale meter
B17: Capaciteitstarief - gemiddelde maandpiek | E17: EUR/kW/jaar | F17: =F9*1.06 -> 40.0309 | G17: =G9*1.06 -> 37.64908 | H17: =H9*1.06 -> 41.08242 | I17: =I9*1.06 -> 48.761484 | J17: =J9*1.06 -> 43.507064 | K17: =K9*1.06 -> 39.060364 | L17: =L9*1.06 -> 45.029224 | M17: =M9*1.06 -> 43.674226 | ... O17: =O9*1.06 -> 48.115732
B18: Totaal kWh-tarief | E18: EUR/MWh | F18: =F10*1.06 -> 37.419272 | G18: =G10*1.06 -> 39.447476 | H18: =H10*1.06 -> 38.183108 | I18: =I10*1.06 -> 49.820424 | J18: =J10*1.06 -> 40.102874 | K18: =K10*1.06 -> 36.558234 | L18: =L10*1.06 -> 42.13394 | M18: =M10*1.06 -> 38.856208 | ... O18: =O10*1.06 -> 45.75437
B19: Totaal kWh-tarief - exclusief nacht | E19: EUR/MWh | F19: =F11*1.06 -> 26.019184 | G19: =G11*1.06 -> 28.151586 | H19: =H11*1.06 -> 27.246664 | I19: =I11*1.06 -> 33.675458 | J19: =J11*1.06 -> 28.257586 | K19: =K11*1.06 -> 25.955796 | L19: =L11*1.06 -> 28.909062 | M19: =M11*1.06 -> 27.760976 | ... O19: =O11*1.06 -> 32.284208
B20: Tarief databeheer - meetregime: per kwartier | E20: EUR/jaar | F20: =F12*1.06 -> 14.5326 | G20: =G12*1.06 -> 14.5326 | H20: =H12*1.06 -> 14.5326 | I20: =I12*1.06 -> 14.5326 | J20: =J12*1.06 -> 14.5326 | K20: =K12*1.06 -> 14.5326 | L20: =L12*1.06 -> 14.5326 | M20: =M12*1.06 -> 14.5326 | ... O20: =O12*1.06 -> 14.5326
B21: Tarief databeheer - meetregime: maandelijks/jaarlijks | E21: EUR/jaar | F21: =F13*1.06 -> 13.3878 | G21: =G13*1.06 -> 13.3878 | H21: =H13*1.06 -> 13.3878 | I21: =I13*1.06 -> 13.3878 | J21: =J13*1.06 -> 13.3878 | K21: =K13*1.06 -> 13.3878 | L21: =L13*1.06 -> 13.3878 | M21: =M13*1.06 -> 13.3878 | ... O21: =O13*1.06 -> 13.3878
B22: Maximumtarief | E22: EUR/MWh | F22: =F14*1.06 -> 203.54798 | G22: =G14*1.06 -> 203.54798 | H22: =H14*1.06 -> 203.54798 | I22: =I14*1.06 -> 203.54798 | J22: =J14*1.06 -> 203.54798 | K22: =K14*1.06 -> 203.54798 | L22: =L14*1.06 -> 203.54798 | M22: =M14*1.06 -> 203.54798 | ... O22: =O14*1.06 -> 203.54798
A24: Exclusief BTW | B24: Klassieke meter
B25: Capaciteitstarief - gemiddelde maandpiek | E25: EUR/jaar | F25: 94.41 | G25: 88.8 | H25: 96.89 | I25: 115 | J25: 102.61 | K25: 92.12 | L25: 106.2 | M25: 103.01 | N25: 125.14 | O25: 113.48
B26: Totaal kWh-tarief | E26: EUR/MWh | F26: 53.852 | G26: 57.4018 | H26: 57.6373 | I26: 69.897 | J26: 58.821 | K26: 54.4132 | L26: 60.1848 | M26: 57.7862 | N26: 61.0484 | O26: 65.4622
B27: Totaal kWh-tarief - exclusief nacht | E27: EUR/MWh | F27: 43.0972 | G27: 46.7453 | H27: 47.3199 | I27: 54.6659 | J27: 47.6462 | K27: 44.4109 | L27: 47.7085 | M27: 47.319 | N27: 54.007 | O27: 52.7545
B28: Tarief databeheer - meetregime: maandelijks/jaarlijks | E28: EUR/jaar | F28: 12.63 | G28: 12.63 | H28: 12.63 | I28: 12.63 | J28: 12.63 | K28: 12.63 | L28: 12.63 | M28: 12.63 | N28: 12.63 | O28: 12.63
B29: Prosumententarief | E29: EUR/kW/jaar | F29: 36.38 | G29: 38.78 | H29: 38.94 | I29: 47.22 | J29: 39.74 | K29: 36.76 | L29: 40.66 | M29: 39.04 | N29: 41.24 | O29: 44.22
A31: Inclusief 6% btw | B31: Klassieke meter
B32: Capaciteitstarief - gemiddelde maandpiek | E32: EUR/jaar | F32: =F25*1.06 -> 100.0746 | G32: =G25*1.06 -> 94.128 | H32: =H25*1.06 -> 102.7034 | I32: =I25*1.06 -> 121.9 | J32: =J25*1.06 -> 108.7666 | K32: =K25*1.06 -> 97.6472 | L32: =L25*1.06 -> 112.572 | M32: =M25*1.06 -> 109.1906 | ... O32: =O25*1.06 -> 120.2888
B33: Totaal kWh-tarief | E33: EUR/MWh | F33: =F26*1.06 -> 57.08312 | G33: =G26*1.06 -> 60.845908 | H33: =H26*1.06 -> 61.095538 | I33: =I26*1.06 -> 74.09082 | J33: =J26*1.06 -> 62.35026 | K33: =K26*1.06 -> 57.677992 | L33: =L26*1.06 -> 63.795888 | M33: =M26*1.06 -> 61.253372 | ... O33: =O26*1.06 -> 69.389932
B34: Totaal kWh-tarief - exclusief nacht | E34: EUR/MWh | F34: =F27*1.06 -> 45.683032 | G34: =G27*1.06 -> 49.550018 | H34: =H27*1.06 -> 50.159094 | I34: =I27*1.06 -> 57.945854 | J34: =J27*1.06 -> 50.504972 | K34: =K27*1.06 -> 47.075554 | L34: =L27*1.06 -> 50.57101 | M34: =M27*1.06 -> 50.15814 | ... O34: =O27*1.06 -> 55.91977
B35: Tarief databeheer - meetregime: maandelijks/jaarlijks | E35: EUR/jaar | F35: =F28*1.06 -> 13.3878 | G35: =G28*1.06 -> 13.3878 | H35: =H28*1.06 -> 13.3878 | I35: =I28*1.06 -> 13.3878 | J35: =J28*1.06 -> 13.3878 | K35: =K28*1.06 -> 13.3878 | L35: =L28*1.06 -> 13.3878 | M35: =M28*1.06 -> 13.3878 | ... O35: =O28*1.06 -> 13.3878
B36: Prosumententarief | E36: EUR/kW/jaar | F36: =F29*1.06 -> 38.5628 | G36: =G29*1.06 -> 41.1068 | H36: =H29*1.06 -> 41.2764 | I36: =I29*1.06 -> 50.0532 | J36: =J29*1.06 -> 42.1244 | K36: =K29*1.06 -> 38.9656 | L36: =L29*1.06 -> 43.0996 | M36: =M29*1.06 -> 41.3824 | ... O36: =O29*1.06 -> 46.8732
B40: Maand | C40: januari | D40: februari | E40: maart | F40: april | G40: mei | H40: juni | I40: juli | J40: augustus | K40: september | L40: oktober | M40: november | N40: december
B41: Verdeling per maand | C41: 0.0368345 | D41: 0.0454585 | E41: 0.0784144 | F41: 0.1067994 | G41: 0.1236484 | H41: 0.1242595 | I41: 0.1267289 | J41: 0.1200005 | K41: 0.0963172 | L41: 0.0702331 | M41: 0.0410124 | N41: 0.0302932
B45: Voordeel/kWh (50/50 Dag nacht2022) | F45: =AVERAGE(DNBT2022!F9:F10)-DNBT2023!F10 -> 39.8616 | G45: =AVERAGE(DNBT2022!G9:G10)-DNBT2023!G10 -> 27.33305 | H45: =AVERAGE(DNBT2022!H9:H10)-DNBT2023!H10 -> 32.72775 | I45: =AVERAGE(DNBT2022!I9:I10)-DNBT2023!I10 -> 64.2046 | J45: =AVERAGE(DNBT2022!J9:J10)-DNBT2023!J10 -> 50.9208 | K45: =AVERAGE(DNBT2022!K9:K10)-DNBT2023!K10 -> 45.64245 | L45: =AVERAGE(DNBT2022!L9:L10)-DNBT2023!L10 -> 62.9554 | M45: =AVERAGE(DNBT2022!M9:M10)-DNBT2023!M10 -> 53.0071 | ... O45: =AVERAGE(DNBT2022!O9:O10)-DNBT2023!O10 -> 53.9204

Sheet x
A1: 0
A2: 0.06
A3: 0.21
